BEGIN:VCALENDAR
VERSION:2.0
PRODID:-// - ECPv6.15.20//NONSGML v1.0//EN
CALSCALE:GREGORIAN
METHOD:PUBLISH
X-ORIGINAL-URL:https://chitownbingo.com
X-WR-CALDESC:Events for 
REFRESH-INTERVAL;VALUE=DURATION:PT1H
X-Robots-Tag:noindex
X-PUBLISHED-TTL:PT1H
BEGIN:VTIMEZONE
TZID:UTC
BEGIN:STANDARD
TZOFFSETFROM:+0000
TZOFFSETTO:+0000
TZNAME:UTC
DTSTART:20250101T000000
END:STANDARD
END:VTIMEZONE
BEGIN:VEVENT
DTSTART;TZID=UTC:20260417T170000
DTEND;TZID=UTC:20260417T213000
DTSTAMP:20260417T204653
CREATED:20260106T214321Z
LAST-MODIFIED:20260413T215907Z
UID:2380-1776445200-1776461400@chitownbingo.com
SUMMARY:WINE MAKER'S - FRIDAY NIGHT BINGO
DESCRIPTION:ROOM OPENS @ 5PM\nWARM UPS @ 6:30PM\nGAMES START @ 7PM
URL:https://chitownbingo.com/event/wine-makers-friday-night-bingo/
LOCATION:Oak Mill Plaza\, 7900 N Milwaukee Ave\, Niles\, IL\, 60714\, United States
CATEGORIES:All BINGO/Raffle Sessions,Regular Bingo/Raffle Sessions
ORGANIZER;CN="ChiTown Bingo":MAILTO:ChiTownBINGO@gmail.com
END:VEVENT
BEGIN:VEVENT
DTSTART;TZID=UTC:20260418T170000
DTEND;TZID=UTC:20260418T213000
DTSTAMP:20260417T204653
CREATED:20260106T214503Z
LAST-MODIFIED:20260413T215835Z
UID:2382-1776531600-1776547800@chitownbingo.com
SUMMARY:AMERICAN HEROES RAFFLE - SATURDAY NIGHT BINGO
DESCRIPTION:ROOM OPENS @ 5PM\nWARM UPS @ 6:30PM\nGAMES START @ 7PM
URL:https://chitownbingo.com/event/american-heroes-raffle-saturday-night-bingo/
LOCATION:Oak Mill Plaza\, 7900 N Milwaukee Ave\, Niles\, IL\, 60714\, United States
CATEGORIES:All BINGO/Raffle Sessions,Regular Bingo/Raffle Sessions
ORGANIZER;CN="ChiTown Bingo":MAILTO:ChiTownBINGO@gmail.com
END:VEVENT
BEGIN:VEVENT
DTSTART;TZID=UTC:20260419T120000
DTEND;TZID=UTC:20260419T163000
DTSTAMP:20260417T204653
CREATED:20260106T214601Z
LAST-MODIFIED:20260413T215538Z
UID:2384-1776600000-1776616200@chitownbingo.com
SUMMARY:LAYER CAKE - SUNDAY AFTERNOON BINGO
DESCRIPTION:ROOM OPENS @ 12PM\nWARM UPS @ 1:30PM\nGAMES START @ 2PM
URL:https://chitownbingo.com/event/layer-cake-sunday-afternoon-bingo/
LOCATION:Oak Mill Plaza\, 7900 N Milwaukee Ave\, Niles\, IL\, 60714\, United States
CATEGORIES:All BINGO/Raffle Sessions,Regular Bingo/Raffle Sessions
ORGANIZER;CN="ChiTown Bingo":MAILTO:ChiTownBINGO@gmail.com
END:VEVENT
END:VCALENDAR